BEGIN:VCALENDAR
VERSION:2.0
PRODID:-//Northern Colorado Traditional Jazz Society - ECPv6.15.20//NONSGML v1.0//EN
CALSCALE:GREGORIAN
METHOD:PUBLISH
X-ORIGINAL-URL:https://nocotradjazz.org
X-WR-CALDESC:Events for Northern Colorado Traditional Jazz Society
REFRESH-INTERVAL;VALUE=DURATION:PT1H
X-Robots-Tag:noindex
X-PUBLISHED-TTL:PT1H
BEGIN:VTIMEZONE
TZID:America/Denver
BEGIN:DAYLIGHT
TZOFFSETFROM:-0700
TZOFFSETTO:-0600
TZNAME:MDT
DTSTART:20230312T090000
END:DAYLIGHT
BEGIN:STANDARD
TZOFFSETFROM:-0600
TZOFFSETTO:-0700
TZNAME:MST
DTSTART:20231105T080000
END:STANDARD
BEGIN:DAYLIGHT
TZOFFSETFROM:-0700
TZOFFSETTO:-0600
TZNAME:MDT
DTSTART:20240310T090000
END:DAYLIGHT
BEGIN:STANDARD
TZOFFSETFROM:-0600
TZOFFSETTO:-0700
TZNAME:MST
DTSTART:20241103T080000
END:STANDARD
BEGIN:DAYLIGHT
TZOFFSETFROM:-0700
TZOFFSETTO:-0600
TZNAME:MDT
DTSTART:20250309T090000
END:DAYLIGHT
BEGIN:STANDARD
TZOFFSETFROM:-0600
TZOFFSETTO:-0700
TZNAME:MST
DTSTART:20251102T080000
END:STANDARD
BEGIN:DAYLIGHT
TZOFFSETFROM:-0700
TZOFFSETTO:-0600
TZNAME:MDT
DTSTART:20260308T090000
END:DAYLIGHT
BEGIN:STANDARD
TZOFFSETFROM:-0600
TZOFFSETTO:-0700
TZNAME:MST
DTSTART:20261101T080000
END:STANDARD
END:VTIMEZONE
BEGIN:VTIMEZONE
TZID:UTC
BEGIN:STANDARD
TZOFFSETFROM:+0000
TZOFFSETTO:+0000
TZNAME:UTC
DTSTART:20230101T000000
END:STANDARD
END:VTIMEZONE
BEGIN:VEVENT
DTSTART;TZID=America/Denver:20250427T140000
DTEND;TZID=America/Denver:20250427T163000
DTSTAMP:20260419T051159
CREATED:20250810T204451Z
LAST-MODIFIED:20250810T204451Z
UID:2442-1745762400-1745771400@nocotradjazz.org
SUMMARY:Fourth Sunday at Avo’s – Harmony Hotshots
DESCRIPTION:Come out April 27th and move to the music\, relax\, and listen to some hot vintage jazz.  And please don’t come alone!!!  Bring your friends and family and tell everyone about Harmony Hotshots. \n\nSunday\, April 27th\, 2025\n2:00 – 4:30 pm\nAvogadro’s Number\, 605 South Mason Street\, Fort Collins\, CO 80524\nCash only – Pay at the Welcome Table.\n$20 per person\, $15 for Jazz Society members\, $10 for students\nPlease show Society Member Card or Student ID for discount\nTables and Seats are not reserved at this event
URL:https://nocotradjazz.org/event/fourth-sunday-at-avos-harmony-hotshots-4/
LOCATION:Avogadro’s Number\, 605 S Mason St\, Fort Collins\, CO\, 80524\, United States
CATEGORIES:NoCoTradJazz Events
END:VEVENT
BEGIN:VEVENT
DTSTART;TZID=America/Denver:20250404T160000
DTEND;TZID=America/Denver:20250404T190000
DTSTAMP:20260419T051159
CREATED:20250810T213245Z
LAST-MODIFIED:20250810T213245Z
UID:2452-1743782400-1743793200@nocotradjazz.org
SUMMARY:First Friday at Avo’s – Poudre River Irregulars
DESCRIPTION:Hang out with kindred spirits\, eat good food\, and enjoy music by the Poudre River Irregulars and more! \nFriday\, April 4th\, 2025 @ 4:00 pm – 7:00 pm \n\nAt-the-Door Admission\n\n\n\nFor Non-Member Fans: $20 cash or check\, $21 with credit card\nFor Members:  $15 with cash or check\, $16 with credit card\n\n\n\nPurchase Tickets in Advance→\nPurchase your tickets or tables online\, with a small processing fee added for credit card use. Tickets are available until 12pm on the day of. \n\nReserve a Table in Advance\nYou can reserve 3 spots at a table in advance with a small processing fee added for credit card use. Each table seats 5\, so this table can include 2 more people who pay at the door. You’ll get to make some new friends! \n\n\n\nReserve as a Non-Member Fan ($62)→\n\nReserve as a Member ($46)→\n\n\n\nReservations are available until 12pm on the day of. \n\nWant to Enjoy Membership Pricing?\nYou can join the Society online or in-person at our Avo’s Welcome Table any time! \n\n\n\nIndividual Membership: $20→\nCouple Membership: $40→\nStudent Membership: $10→\n\n\n\n\n 
URL:https://nocotradjazz.org/event/first-friday-at-avos-poudre-river-irregulars-4/
LOCATION:Avogadro’s Number\, 605 S Mason St\, Fort Collins\, CO\, 80524\, United States
CATEGORIES:NoCoTradJazz Events
ATTACH;FMTTYPE=image/jpeg:https://nocotradjazz.org/wp-content/uploads/2025/01/PRI-8-on-outdoor-stage-2024-e1738093736736.jpg
END:VEVENT
BEGIN:VEVENT
DTSTART;TZID=America/Denver:20250323T140000
DTEND;TZID=America/Denver:20250323T163000
DTSTAMP:20260419T051159
CREATED:20250212T003038Z
LAST-MODIFIED:20250212T003038Z
UID:2388-1742738400-1742747400@nocotradjazz.org
SUMMARY:Fourth Sunday at Avo's - Harmony Hotshots
DESCRIPTION:Come out March 23rd and move to the music\, relax\, and listen to some hot vintage jazz.  And please don’t come alone!!!  Bring your friends and family and tell everyone about Harmony Hotshots. \n\nSunday\, March 23rd\, 2025\n2:00 – 4:30 pm\nAvogadro’s Number\, 605 South Mason Street\, Fort Collins\, CO 80524\nCash only – Pay at the Welcome Table.\n$20 per person\, $15 for Jazz Society members\, $10 for students\nPlease show Society Member Card or Student ID for discount\nTables and Seats are not reserved at this event
URL:https://nocotradjazz.org/event/fourth-sunday-at-avos-harmony-hotshots-3/
LOCATION:Avogadro’s Number\, 605 S Mason St\, Fort Collins\, CO\, 80524\, United States
CATEGORIES:NoCoTradJazz Events
ATTACH;FMTTYPE=image/png:https://nocotradjazz.org/wp-content/uploads/2024/06/HarmonyHotshots.png
END:VEVENT
BEGIN:VEVENT
DTSTART;TZID=America/Denver:20250307T040000
DTEND;TZID=America/Denver:20250307T190000
DTSTAMP:20260419T051159
CREATED:20250212T003433Z
LAST-MODIFIED:20250212T003433Z
UID:2390-1741320000-1741374000@nocotradjazz.org
SUMMARY:First Friday at Avo’s – Poudre River Irregulars
DESCRIPTION:Hang out with kindred spirits\, eat good food\, and enjoy music by the Poudre River Irregulars and more! \nFriday\, March 7\, 2025 @ 4:00 pm – 7:00 pm \n\nAt-the-Door Admission\n\n\n\nFor Non-Member Fans: $20 cash or check\, $21 with credit card\nFor Members:  $15 with cash or check\, $16 with credit card\n\n\n\nPurchase Tickets in Advance→\nPurchase your tickets or tables online\, with a small processing fee added for credit card use. Tickets are available until 12pm on the day of. \n\nReserve a Table in Advance\nYou can reserve 3 spots at a table in advance with a small processing fee added for credit card use. Each table seats 5\, so this table can include 2 more people who pay at the door. You’ll get to make some new friends! \n\n\n\nReserve as a Non-Member Fan ($62)→\n\nReserve as a Member ($46)→\n\n\n\nReservations are available until 12pm on the day of. \n\nWant to Enjoy Membership Pricing?\nYou can join the Society online or in-person at our Avo’s Welcome Table any time! \n\n\n\nIndividual Membership: $20→\nCouple Membership: $40→\nStudent Membership: $10→\n\n\n\n\n 
URL:https://nocotradjazz.org/event/first-friday-at-avos-poudre-river-irregulars-3/
LOCATION:Avogadro’s Number\, 605 S Mason St\, Fort Collins\, CO\, 80524\, United States
CATEGORIES:NoCoTradJazz Events
ATTACH;FMTTYPE=image/jpeg:https://nocotradjazz.org/wp-content/uploads/2025/01/PRI-8-on-outdoor-stage-2024-e1738093736736.jpg
END:VEVENT
BEGIN:VEVENT
DTSTART;TZID=America/Denver:20250223T140000
DTEND;TZID=America/Denver:20250223T163000
DTSTAMP:20260419T051159
CREATED:20241210T063057Z
LAST-MODIFIED:20241210T065908Z
UID:2223-1740319200-1740328200@nocotradjazz.org
SUMMARY:Fourth Sunday at Avo's - Harmony Hotshots
DESCRIPTION:Come out February 23rd and move to the music\, relax\, and listen to some hot vintage jazz.  And please don’t come alone!!!  Bring your friends and family and tell everyone about Harmony Hotshots. \n\nSunday\, February 23rd\, 2025\n2:00 – 4:30 pm\nAvogadro’s Number\, 605 South Mason Street\, Fort Collins\, CO 80524\nCash only – Pay at the Welcome Table.\n$20 per person\, $15 for Jazz Society members\, $10 for students\nPlease show Society Member Card or Student ID for discount\nTables and Seats are not reserved at this event
URL:https://nocotradjazz.org/event/fourth-sunday-at-avos-harmony-hotshots/
LOCATION:Avogadro’s Number\, 605 S Mason St\, Fort Collins\, CO\, 80524\, United States
CATEGORIES:NoCoTradJazz Events
ATTACH;FMTTYPE=image/png:https://nocotradjazz.org/wp-content/uploads/2024/12/Final-Color-with-Vector-Text.png
END:VEVENT
BEGIN:VEVENT
DTSTART;TZID=America/Denver:20250207T160000
DTEND;TZID=America/Denver:20250207T193000
DTSTAMP:20260419T051159
CREATED:20241210T063506Z
LAST-MODIFIED:20241210T065927Z
UID:2227-1738944000-1738956600@nocotradjazz.org
SUMMARY:First Friday at Avo’s – Poudre River Irregulars
DESCRIPTION:Hang out with kindred spirits\, eat good food\, and enjoy music by the Poudre River Irregulars and more! \n\nAt-the-Door Admission\n\n\n\nFor Non-Member Fans: $20 cash or check\, $21 with credit card\nFor Members:  $15 with cash or check\, $16 with credit card\n\n\n\nPurchase Tickets in Advance→\nPurchase your tickets or tables online\, with a small processing fee added for credit card use. Tickets are available until 12pm on the day of. \n\nReserve a Table in Advance\nYou can reserve 3 spots at a table in advance with a small processing fee added for credit card use. Each table seats 5\, so this table can include 2 more people who pay at the door. You’ll get to make some new friends! \n\n\n\nReserve as a Non-Member Fan ($62)→\n\nReserve as a Member ($46)→\n\n\n\nReservations are available until 12pm on the day of. \n\nWant to Enjoy Membership Pricing?\nYou can join the Society online or in-person at our Avo’s Welcome Table any time! \n\n\n\nIndividual Membership: $20→\nCouple Membership: $40→\nStudent Membership: $10→\n\n\n\n\n 
URL:https://nocotradjazz.org/event/first-friday-at-avos-poudre-river-irregulars/
LOCATION:Avogadro’s Number\, 605 S Mason St\, Fort Collins\, CO\, 80524\, United States
CATEGORIES:NoCoTradJazz Events
ATTACH;FMTTYPE=image/png:https://nocotradjazz.org/wp-content/uploads/2024/09/PRIHeroImage.png
END:VEVENT
BEGIN:VEVENT
DTSTART;TZID=America/Denver:20250126T140000
DTEND;TZID=America/Denver:20250126T163000
DTSTAMP:20260419T051159
CREATED:20241210T062122Z
LAST-MODIFIED:20241210T065942Z
UID:2215-1737900000-1737909000@nocotradjazz.org
SUMMARY:Fourth Sunday at Avo's - Harmony Hotshots
DESCRIPTION:Come out January 26th\, 2024\, and move to the music\, relax\, and listen to some hot vintage jazz.  And please don’t come alone!!!  Bring your friends and family and tell everyone about Harmony Hotshots. \n\nSunday\, January 26\, 2024\n2:00 – 4:30 pm\nAvogadro’s Number\, 605 South Mason Street\, Fort Collins\, CO 80524\nCash only – Pay at the Welcome Table.\n$20 per person\, $15 for Jazz Society members\, $10 for students\nPlease show Society Member Card or Student ID for discount\nTables and Seats are not reserved at this event
URL:https://nocotradjazz.org/event/fourth-sunday-at-avos-harmony-hotshots-2/
LOCATION:Avogadro’s Number\, 605 S Mason St\, Fort Collins\, CO\, 80524\, United States
CATEGORIES:NoCoTradJazz Events
ATTACH;FMTTYPE=image/png:https://nocotradjazz.org/wp-content/uploads/2024/12/Final-Color-with-Vector-Text.png
END:VEVENT
BEGIN:VEVENT
DTSTART;TZID=America/Denver:20250103T160000
DTEND;TZID=America/Denver:20250103T193000
DTSTAMP:20260419T051159
CREATED:20241210T062506Z
LAST-MODIFIED:20241210T070001Z
UID:2218-1735920000-1735932600@nocotradjazz.org
SUMMARY:First Friday at Avo’s – Poudre River Irregulars
DESCRIPTION:Hang out with kindred spirits\, eat good food\, and enjoy music by the Poudre River Irregulars and more! \n\nAt-the-Door Admission\n\n\n\nFor Non-Member Fans: $20 cash or check\, $21 with credit card\nFor Members:  $15 with cash or check\, $16 with credit card\n\n\n\nPurchase Tickets in Advance→\nPurchase your tickets or tables online\, with a small processing fee added for credit card use. Tickets are available until 12pm on the day of. \n\nReserve a Table in Advance\nYou can reserve 3 spots at a table in advance with a small processing fee added for credit card use. Each table seats 5\, so this table can include 2 more people who pay at the door. You’ll get to make some new friends! \n\n\n\nReserve as a Non-Member Fan ($62)→\n\nReserve as a Member ($46)→\n\n\n\nReservations are available until 12pm on the day of. \n\nWant to Enjoy Membership Pricing?\nYou can join the Society online or in-person at our Avo’s Welcome Table any time! \n\n\n\nIndividual Membership: $20→\nCouple Membership: $40→\nStudent Membership: $10→\n\n\n\n\n 
URL:https://nocotradjazz.org/event/first-friday-at-avos-poudre-river-irregulars-2/
LOCATION:Avogadro’s Number\, 605 S Mason St\, Fort Collins\, CO\, 80524\, United States
CATEGORIES:NoCoTradJazz Events
ATTACH;FMTTYPE=image/png:https://nocotradjazz.org/wp-content/uploads/2024/09/PRIHeroImage.png
END:VEVENT
BEGIN:VEVENT
DTSTART;TZID=America/Denver:20241229T140000
DTEND;TZID=America/Denver:20241229T163000
DTSTAMP:20260419T051159
CREATED:20241210T061632Z
LAST-MODIFIED:20241210T070018Z
UID:2211-1735480800-1735489800@nocotradjazz.org
SUMMARY:Fourth Sunday at Avo's - Harmony Hotshots
DESCRIPTION:Come out December 29th and move to the music\, relax\, and listen to some hot vintage jazz.  And please don’t come alone!!!  Bring your friends and family and tell everyone about Harmony Hotshots. \n\nSunday\, December 29\, 2024\n2:00 – 4:30 pm\nAvogadro’s Number\, 605 South Mason Street\, Fort Collins\, CO 80524\nCash only – Pay at the Welcome Table.\n$20 per person\, $15 for Jazz Society members\, $10 for students\nPlease show Society Member Card or Student ID for discount\nTables and Seats are not reserved at this event
URL:https://nocotradjazz.org/event/fourth-sunday-at-avos-harmony-shotshots/
LOCATION:Avogadro’s Number\, 605 S Mason St\, Fort Collins\, CO\, 80524\, United States
CATEGORIES:NoCoTradJazz Events
ATTACH;FMTTYPE=image/png:https://nocotradjazz.org/wp-content/uploads/2024/12/Final-Color-with-Vector-Text.png
END:VEVENT
BEGIN:VEVENT
DTSTART;TZID=America/Denver:20241206T150000
DTEND;TZID=America/Denver:20241206T190000
DTSTAMP:20260419T051159
CREATED:20240805T152824Z
LAST-MODIFIED:20241210T065352Z
UID:1842-1733497200-1733511600@nocotradjazz.org
SUMMARY:First Friday at Avo's - December 6 → 3:00 warm-up band from CU Denver  COME EARLY!
DESCRIPTION:Hang out with kindred spirits\, eat good food\, and enjoy music by the Poudre River Irregulars and more! \n\nAt-the-Door Admission\n\n\n\nFor Non-Member Fans: $20 cash or check\, $21 with credit card\nFor Members:  $15 with cash or check\, $16 with credit card\n\n\n\nPurchase Tickets in Advance\nPurchase your tickets or tables online\, with a small processing fee added for credit card use.\nTickets are available until 12pm on the day of. \n\nReserve a Table in Advance\nYou can reserve 3 spots at a table in advance with a small processing fee added for credit card use. Each table seats 5\, so this table can include 2 more people who pay at the door. You’ll get to make some new friends! \n\n\n\nReserve as a Non-Member Fan\n\nReserve as a Member\n\n\n\nReservations are available until 12pm on the day of. \n\nWant to Enjoy Membership Pricing?\nYou can join the Society online or in-person at our Avo’s Welcome Table any time! \n\n\n\nIndividual Membership: $20\nCouple Membership: $40\nStudent Membership: $10\n\n\n\n\n 
URL:https://nocotradjazz.org/event/first-friday-at-avos-december-6/
LOCATION:Avogadro’s Number\, 605 S Mason St\, Fort Collins\, CO\, 80524\, United States
CATEGORIES:NoCoTradJazz Events
ATTACH;FMTTYPE=image/png:https://nocotradjazz.org/wp-content/uploads/2024/09/PRIHeroImage.png
END:VEVENT
BEGIN:VEVENT
DTSTART;TZID=America/Denver:20241124T140000
DTEND;TZID=America/Denver:20241124T163000
DTSTAMP:20260419T051159
CREATED:20241106T014657Z
LAST-MODIFIED:20241210T065348Z
UID:2085-1732456800-1732465800@nocotradjazz.org
SUMMARY:Vintage Jazz Sunday Afternoon - Harmony Hotshots
DESCRIPTION:Come out November 24\, 2024\, and move to the music\, relax\, and listen to some hot vintage jazz.  And please don’t come alone!!!  Bring your friends and family and tell everyone about Harmony Hotshots. \n\nSunday\, November 24\, 2024\n2:00 – 4:30 pm\nAvogadro’s Number\, 605 South Mason Street\, Fort Collins\, CO 80524\nCash only – Pay at the Welcome Table.\n$20 per person\, $15 for Jazz Society members\, $10 for students\nPlease show Society Member Card or Student ID for discount\nTables and Seats are not reserved at this event
URL:https://nocotradjazz.org/event/vintage-jazz-sunday-afternoon-harmony-hotshots/
LOCATION:Avogadro’s Number\, 605 S Mason St\, Fort Collins\, CO\, 80524\, United States
CATEGORIES:NoCoTradJazz Events
ATTACH;FMTTYPE=image/png:https://nocotradjazz.org/wp-content/uploads/2024/06/HarmonyHotshots.png
END:VEVENT
BEGIN:VEVENT
DTSTART;TZID=America/Denver:20241101T160000
DTEND;TZID=America/Denver:20241101T190000
DTSTAMP:20260419T051159
CREATED:20240805T152619Z
LAST-MODIFIED:20241210T065335Z
UID:1840-1730476800-1730487600@nocotradjazz.org
SUMMARY:First Friday at Avo’s – November 1 →
DESCRIPTION:Hang out with kindred spirits\, eat good food\, and enjoy music by the Poudre River Irregulars and more! \n\nAt-the-Door Admission\n\n\n\nFor Non-Member Fans: $20 cash or check\, $21 with credit card\nFor Members:  $15 with cash or check\, $16 with credit card\n\n\n\nPurchase Tickets in Advance\nPurchase your tickets or tables online\, with a small processing fee added for credit card use.\nTickets are available until 12pm on the day of. \n\nReserve a Table in Advance\nYou can reserve 3 spots at a table in advance with a small processing fee added for credit card use. Each table seats 5\, so this table can include 2 more people who pay at the door. You’ll get to make some new friends! \n\n\n\nReserve as a Non-Member Fan\n\nReserve as a Member\n\n\n\nReservations are available until 12pm on the day of. \n\nWant to Enjoy Membership Pricing?\nYou can join the Society online or in-person at our Avo’s Welcome Table any time! \n\n\n\nIndividual Membership: $20\nCouple Membership: $40\nStudent Membership: $10\n\n\n\n\n 
URL:https://nocotradjazz.org/event/first-friday-at-avos-november-1/
LOCATION:Avogadro’s Number\, 605 S Mason St\, Fort Collins\, CO\, 80524\, United States
CATEGORIES:NoCoTradJazz Events
END:VEVENT
BEGIN:VEVENT
DTSTART;TZID=America/Denver:20241004T160000
DTEND;TZID=America/Denver:20241004T190000
DTSTAMP:20260419T051159
CREATED:20240805T152443Z
LAST-MODIFIED:20241210T065253Z
UID:1838-1728057600-1728068400@nocotradjazz.org
SUMMARY:First Friday at Avo’s – October 4 →
DESCRIPTION:Hang out with kindred spirits\, eat good food\, and enjoy music by the Poudre River Irregulars and more! \n\nAt-the-Door Admission\n\n\n\nFor Non-Member Fans: $20 cash or check\, $21 with credit card\nFor Members:  $15 with cash or check\, $16 with credit card\n\n\n\nPurchase Tickets in Advance→\nPurchase your tickets or tables online\, with a small processing fee added for credit card use. Tickets are available until 12pm on the day of. \n\nReserve a Table in Advance\nYou can reserve 3 spots at a table in advance with a small processing fee added for credit card use. Each table seats 5\, so this table can include 2 more people who pay at the door. You’ll get to make some new friends! \n\n\n\nReserve as a Non-Member Fan ($62)→\n\nReserve as a Member ($46)→\n\n\n\nReservations are available until 12pm on the day of. \n\nWant to Enjoy Membership Pricing?\nYou can join the Society online or in-person at our Avo’s Welcome Table any time! \n\n\n\nIndividual Membership: $20→\nCouple Membership: $40→\nStudent Membership: $10→\n\n\n\n\n 
URL:https://nocotradjazz.org/event/first-friday-at-avos-october-4/
LOCATION:Avogadro’s Number\, 605 S Mason St\, Fort Collins\, CO\, 80524\, United States
CATEGORIES:NoCoTradJazz Events
END:VEVENT
BEGIN:VEVENT
DTSTART;TZID=America/Denver:20240802T160000
DTEND;TZID=America/Denver:20240802T190000
DTSTAMP:20260419T051159
CREATED:20240419T062234Z
LAST-MODIFIED:20241210T065322Z
UID:948-1722614400-1722625200@nocotradjazz.org
SUMMARY:First Friday at Avogadro's - August 2 →
DESCRIPTION:Hang out with kindred spirits\, eat good food\, and enjoy music by the Poudre River Irregulars and more! \n\nAt-the-Door Admission\n\n\n\nFor Non-Member Fans: $20 cash or check\, $21 with credit card\nFor Members:  $15 with cash or check\, $16 with credit card\n\n\n\nPurchase Tickets in Advance – Available after July 5th\nPurchase your tickets or tables online\, with a small processing fee added for credit card use.\nTickets are available until 12pm on the day of. \n\nReserve a Table in Advance\nYou can reserve 3 spots at a table in advance with a small processing fee added for credit card use. Each table seats 5\, so this table can include 2 more people who pay at the door. You’ll get to make some new friends! \n\n\n\nReserve as a Non-Member Fan – Available after July 5th\n\nReserve as a Member – Available after July 5th\n\n\n\nReservations are available until 12pm on the day of. \n\nWant to Enjoy Membership Pricing?\nYou can join the Society online or in-person at our Avo’s Welcome Table any time! \n\n\n\nIndividual Membership: $20\nCouple Membership: $40\nStudent Membership: $10\n\n\n\n\n 
URL:https://nocotradjazz.org/event/friday-at-avogadros-august-2/
LOCATION:Avogadro’s Number\, 605 S Mason St\, Fort Collins\, CO\, 80524\, United States
CATEGORIES:NoCoTradJazz Events
END:VEVENT
BEGIN:VEVENT
DTSTART;TZID=America/Denver:20240721T170000
DTEND;TZID=America/Denver:20240721T210000
DTSTAMP:20260419T051159
CREATED:20240625T044854Z
LAST-MODIFIED:20241210T065421Z
UID:1760-1721581200-1721595600@nocotradjazz.org
SUMMARY:The Harmony Hotshots @ Club Tico →
DESCRIPTION:Drop-in Swing lessons at 5 pm\nHotshots play from 6 -9 pm \nThe Harmony Hotshots are playing in cooperation with Cat’s Corner Swing\, who will provide beginner and intermediate drop-in swing lessons at 5 pm. More info at catscornerswing.com. \nTickets are $15 per person\, which includes the beginner swing dance lesson at 5:00 pm.  The Intermediate dance lesson is an additional $5.00. \nWe hope to see you there!
URL:https://nocotradjazz.org/event/the-harmony-hotshots-club-tico/
LOCATION:Club Tico\, 1599 City Park Dr.\, Fort Collins\, CO
CATEGORIES:NoCoTradJazz Events
END:VEVENT
BEGIN:VEVENT
DTSTART;TZID=UTC:20240607T163000
DTEND;TZID=UTC:20240607T190000
DTSTAMP:20260419T051159
CREATED:20240419T115509Z
LAST-MODIFIED:20241210T065448Z
UID:935-1717777800-1717786800@nocotradjazz.org
SUMMARY:First Friday at Avogadros - June 7 →
DESCRIPTION:Hang out with kindred spirits\, eat good food\, and enjoy music by the Poudre River Irregulars\, Harmony Hotshots\, and more! \n\nAt-the-Door Admission\n\n\n\nFor Non-Members: $20\nFor Members: $15\n\n\n\nBuy Tickets 1 Month in Advance↗ \n\nNeed to Reserve Some Seats?\nIf you are a Member\, you can reserve 3 spots at a table for $45. Each table seats 5\, so you’ll get to make some new friends! \nTo reserve 3 spots\, buy them for $45 in advance↗ OR bring your Membership Card to the Welcome Table at the event. \nIf you aren’t a Member\, you can become one online↗ or in-person at the Welcome Table any time! \n\n\n\nIndividual Membership (1 Year): $20\nCouple Membership (1 Year): $40\n\n\n\n\n 
URL:https://nocotradjazz.org/event/first-fridays-at-avagadros-june-1/
LOCATION:Avogadro’s Number\, 605 S Mason St\, Fort Collins\, CO\, 80524\, United States
CATEGORIES:NoCoTradJazz Events
END:VEVENT
BEGIN:VEVENT
DTSTART;TZID=UTC:20240503T150000
DTEND;TZID=UTC:20240503T190000
DTSTAMP:20260419T051159
CREATED:20240419T113304Z
LAST-MODIFIED:20241210T065500Z
UID:925-1714748400-1714762800@nocotradjazz.org
SUMMARY:First Friday at Avogadro's - May 3 →
DESCRIPTION:Hang out with kindred spirits\, eat good food\, and enjoy music by the Poudre River Irregulars\, Harmony Hotshots\, and more! \n\nAt-the-Door Admission\n\n\n\nFor Non-Members: $20\nFor Members: $15\n\n\n\nBuy Tickets 1 Month in Advance↗ \n\nNeed to Reserve Some Seats?\nIf you are a Member\, you can reserve 3 spots at a table for $45. Each table seats 5\, so you’ll get to make some new friends! \nTo reserve 3 spots\, buy them for $45 in advance↗ OR bring your Membership Card to the Welcome Table at the event. \nIf you aren’t a Member\, you can become one online↗ or in-person at the Welcome Table any time! \n\n\n\nIndividual Membership (1 Year): $20\nCouple Membership (1 Year): $40\n\n\n\n\n 
URL:https://nocotradjazz.org/event/first-fridays-at-avagadros-may-4/
LOCATION:Avogadro’s Number\, 605 S Mason St\, Fort Collins\, CO\, 80524\, United States
CATEGORIES:NoCoTradJazz Events
END:VEVENT
END:VCALENDAR